BEGIN:VCALENDAR
VERSION:2.0
PRODID:-//eventon.com NONSGML v1.0//EN
CALSCALE:GREGORIAN
METHOD:PUBLISH
BEGIN:VEVENT
UID:69eb38fe0a9a3
DTSTAMP:20260424T093350Z
DTSTART:20230406T120000Z
DTEND:20230406T130000Z
LOCATION:
SUMMARY:Marketing & Communication Group
DESCRIPTION:With the Marketing &amp; communication group\,  made up of prof
 essionals from TGS member firms\,  we work on the development and implement
 ation of TGS communication actions. Register here: TGS Member Not Member\nh
 ttps://tgs-global.com/webinars/marketing-communication-group-2/
URL:https://tgs-global.com/webinars/marketing-communication-group-2/
END:VEVENT
END:VCALENDAR